BEGIN:VCALENDAR
VERSION:2.0
PRODID:-//Landesjagdverband Brandenburg e.V. - ECPv6.15.20//NONSGML v1.0//EN
CALSCALE:GREGORIAN
METHOD:PUBLISH
X-WR-CALNAME:Landesjagdverband Brandenburg e.V.
X-ORIGINAL-URL:https://ljv-brandenburg.de
X-WR-CALDESC:Veranstaltungen für Landesjagdverband Brandenburg e.V.
REFRESH-INTERVAL;VALUE=DURATION:PT1H
X-Robots-Tag:noindex
X-PUBLISHED-TTL:PT1H
BEGIN:VTIMEZONE
TZID:Europe/Berlin
BEGIN:DAYLIGHT
TZOFFSETFROM:+0100
TZOFFSETTO:+0200
TZNAME:CEST
DTSTART:20230326T010000
END:DAYLIGHT
BEGIN:STANDARD
TZOFFSETFROM:+0200
TZOFFSETTO:+0100
TZNAME:CET
DTSTART:20231029T010000
END:STANDARD
BEGIN:DAYLIGHT
TZOFFSETFROM:+0100
TZOFFSETTO:+0200
TZNAME:CEST
DTSTART:20240331T010000
END:DAYLIGHT
BEGIN:STANDARD
TZOFFSETFROM:+0200
TZOFFSETTO:+0100
TZNAME:CET
DTSTART:20241027T010000
END:STANDARD
BEGIN:DAYLIGHT
TZOFFSETFROM:+0100
TZOFFSETTO:+0200
TZNAME:CEST
DTSTART:20250330T010000
END:DAYLIGHT
BEGIN:STANDARD
TZOFFSETFROM:+0200
TZOFFSETTO:+0100
TZNAME:CET
DTSTART:20251026T010000
END:STANDARD
END:VTIMEZONE
BEGIN:VEVENT
DTSTART;TZID=Europe/Berlin:20240525T120000
DTEND;TZID=Europe/Berlin:20240525T170000
DTSTAMP:20260421T123928
CREATED:20240514T075608Z
LAST-MODIFIED:20240514T075745Z
UID:96260-1716638400-1716656400@ljv-brandenburg.de
SUMMARY:1. Jägerfest „Hundegeläut und Hörnerklang“ am 25.05.2024 in Dreetz
DESCRIPTION:Gemeinsam mit den Jagdverbänden Nauen und Rathenow möchten wir Sie zu einer interessanten\, öffentlichen Veranstaltung rund um Jagd\, Hundewesen und Naturschutz einladen. \nFür Jung und Alt\, für Jägerinnen und Jäger sowie alle Naturfreunde wird es ein umfangreiches Programm geben. Zahlreiche Aussteller und Akteure bieten Waren zum Kauf und Staunen an. \nFür das leibliche Wohl ist bestens auf Jäger-Art gesorgt. \nDer Eintritt ist frei. \nDie Veranstaltungsdaten lauten wie folgt: \nDatum: 25.05.2024 \nBeginn: 12:00 Uhr \nEnde: ca. 17:00 Uhr \n  \nArboretum Dreetz \nBartschendorfer Str. 13 \n16845 Dreetz \n  \nWir freuen uns\, Sie alle an diesen besonderen Tag begrüßen zu dürfen. \nIhr Kreisjagdverband Ostprignitz-Ruppin e.V.
URL:https://ljv-brandenburg.de/termin/1-jaegerfest-hundegelaeut-und-hoernerklang-am-25-05-2024-in-dreetz/
LOCATION:Arboretum Dreetz\, Bartschendorfer Str. 13\, Dreetz\, 16845
CATEGORIES:Veranstaltungen
ATTACH;FMTTYPE=image/jpeg:https://ljv-brandenburg.de/wp-content/uploads/2022/02/horn-gbf269b494_1920.jpg
END:VEVENT
END:VCALENDAR